BEGIN:VCALENDAR
VERSION:2.0
PRODID:-//Muncy Public Library - ECPv6.15.16//NONSGML v1.0//EN
CALSCALE:GREGORIAN
METHOD:PUBLISH
X-ORIGINAL-URL:https://mplpa.org
X-WR-CALDESC:Events for Muncy Public Library
REFRESH-INTERVAL;VALUE=DURATION:PT1H
X-Robots-Tag:noindex
X-PUBLISHED-TTL:PT1H
BEGIN:VTIMEZONE
TZID:America/New_York
BEGIN:DAYLIGHT
TZOFFSETFROM:-0500
TZOFFSETTO:-0400
TZNAME:EDT
DTSTART:20280312T070000
END:DAYLIGHT
BEGIN:STANDARD
TZOFFSETFROM:-0400
TZOFFSETTO:-0500
TZNAME:EST
DTSTART:20281105T060000
END:STANDARD
BEGIN:DAYLIGHT
TZOFFSETFROM:-0500
TZOFFSETTO:-0400
TZNAME:EDT
DTSTART:20290311T070000
END:DAYLIGHT
BEGIN:STANDARD
TZOFFSETFROM:-0400
TZOFFSETTO:-0500
TZNAME:EST
DTSTART:20291104T060000
END:STANDARD
BEGIN:DAYLIGHT
TZOFFSETFROM:-0500
TZOFFSETTO:-0400
TZNAME:EDT
DTSTART:20300310T070000
END:DAYLIGHT
BEGIN:STANDARD
TZOFFSETFROM:-0400
TZOFFSETTO:-0500
TZNAME:EST
DTSTART:20301103T060000
END:STANDARD
BEGIN:DAYLIGHT
TZOFFSETFROM:-0500
TZOFFSETTO:-0400
TZNAME:EDT
DTSTART:20310309T070000
END:DAYLIGHT
BEGIN:STANDARD
TZOFFSETFROM:-0400
TZOFFSETTO:-0500
TZNAME:EST
DTSTART:20311102T060000
END:STANDARD
END:VTIMEZONE
BEGIN:VEVENT
DTSTART;VALUE=DATE:20290428
DTEND;VALUE=DATE:20290429
DTSTAMP:20260424T202429
CREATED:20250710T210014Z
LAST-MODIFIED:20250710T210014Z
UID:10000799-1872028800-1872115199@mplpa.org
SUMMARY:Book Sale
DESCRIPTION:
URL:https://mplpa.org/event/book-sale/2029-04-28/
LOCATION:Muncy Public Library\, 108 S Main Street\, Muncy\, PA\, 17756\, United States
CATEGORIES:Book Sale
END:VEVENT
BEGIN:VEVENT
DTSTART;VALUE=DATE:20290508
DTEND;VALUE=DATE:20290509
DTSTAMP:20260424T202429
CREATED:20250710T210133Z
LAST-MODIFIED:20250710T210133Z
UID:10000860-1872892800-1872979199@mplpa.org
SUMMARY:Book Sale
DESCRIPTION:
URL:https://mplpa.org/event/book-sale-2/2029-05-08/
LOCATION:Muncy Public Library\, 108 S Main Street\, Muncy\, PA\, 17756\, United States
CATEGORIES:Book Sale
END:VEVENT
BEGIN:VEVENT
DTSTART;TZID=America/New_York:20290512T130000
DTEND;TZID=America/New_York:20290512T140000
DTSTAMP:20260424T202429
CREATED:20260112T195420Z
LAST-MODIFIED:20260112T195420Z
UID:10003346-1873285200-1873288800@mplpa.org
SUMMARY:Pokemon Club
DESCRIPTION:  \nEvery second Saturday of the month! We mostly focus on the card game\, but we also have crafts and coloring for younger participants! Adults as well as children are encouraged to attend. Sometimes we even have snacks 🙂
URL:https://mplpa.org/event/pokemon-club-2/2029-05-12/
LOCATION:Muncy Public Library\, 108 S Main Street\, Muncy\, PA\, 17756\, United States
CATEGORIES:Pokemon Club
END:VEVENT
BEGIN:VEVENT
DTSTART;VALUE=DATE:20290526
DTEND;VALUE=DATE:20290527
DTSTAMP:20260424T202429
CREATED:20250710T210014Z
LAST-MODIFIED:20250710T210014Z
UID:10000800-1874448000-1874534399@mplpa.org
SUMMARY:Book Sale
DESCRIPTION:
URL:https://mplpa.org/event/book-sale/2029-05-26/
LOCATION:Muncy Public Library\, 108 S Main Street\, Muncy\, PA\, 17756\, United States
CATEGORIES:Book Sale
END:VEVENT
BEGIN:VEVENT
DTSTART;TZID=America/New_York:20290609T130000
DTEND;TZID=America/New_York:20290609T140000
DTSTAMP:20260424T202429
CREATED:20260112T195420Z
LAST-MODIFIED:20260112T195420Z
UID:10003347-1875704400-1875708000@mplpa.org
SUMMARY:Pokemon Club
DESCRIPTION:  \nEvery second Saturday of the month! We mostly focus on the card game\, but we also have crafts and coloring for younger participants! Adults as well as children are encouraged to attend. Sometimes we even have snacks 🙂
URL:https://mplpa.org/event/pokemon-club-2/2029-06-09/
LOCATION:Muncy Public Library\, 108 S Main Street\, Muncy\, PA\, 17756\, United States
CATEGORIES:Pokemon Club
END:VEVENT
BEGIN:VEVENT
DTSTART;VALUE=DATE:20290612
DTEND;VALUE=DATE:20290613
DTSTAMP:20260424T202429
CREATED:20250710T210133Z
LAST-MODIFIED:20250710T210133Z
UID:10000861-1875916800-1876003199@mplpa.org
SUMMARY:Book Sale
DESCRIPTION:
URL:https://mplpa.org/event/book-sale-2/2029-06-12/
LOCATION:Muncy Public Library\, 108 S Main Street\, Muncy\, PA\, 17756\, United States
CATEGORIES:Book Sale
END:VEVENT
BEGIN:VEVENT
DTSTART;VALUE=DATE:20290623
DTEND;VALUE=DATE:20290624
DTSTAMP:20260424T202429
CREATED:20250710T210014Z
LAST-MODIFIED:20250710T210014Z
UID:10000801-1876867200-1876953599@mplpa.org
SUMMARY:Book Sale
DESCRIPTION:
URL:https://mplpa.org/event/book-sale/2029-06-23/
LOCATION:Muncy Public Library\, 108 S Main Street\, Muncy\, PA\, 17756\, United States
CATEGORIES:Book Sale
END:VEVENT
BEGIN:VEVENT
DTSTART;VALUE=DATE:20290710
DTEND;VALUE=DATE:20290711
DTSTAMP:20260424T202429
CREATED:20250710T210133Z
LAST-MODIFIED:20250710T210133Z
UID:10000862-1878336000-1878422399@mplpa.org
SUMMARY:Book Sale
DESCRIPTION:
URL:https://mplpa.org/event/book-sale-2/2029-07-10/
LOCATION:Muncy Public Library\, 108 S Main Street\, Muncy\, PA\, 17756\, United States
CATEGORIES:Book Sale
END:VEVENT
BEGIN:VEVENT
DTSTART;TZID=America/New_York:20290714T130000
DTEND;TZID=America/New_York:20290714T140000
DTSTAMP:20260424T202429
CREATED:20260112T195420Z
LAST-MODIFIED:20260112T195420Z
UID:10003348-1878728400-1878732000@mplpa.org
SUMMARY:Pokemon Club
DESCRIPTION:  \nEvery second Saturday of the month! We mostly focus on the card game\, but we also have crafts and coloring for younger participants! Adults as well as children are encouraged to attend. Sometimes we even have snacks 🙂
URL:https://mplpa.org/event/pokemon-club-2/2029-07-14/
LOCATION:Muncy Public Library\, 108 S Main Street\, Muncy\, PA\, 17756\, United States
CATEGORIES:Pokemon Club
END:VEVENT
BEGIN:VEVENT
DTSTART;VALUE=DATE:20290728
DTEND;VALUE=DATE:20290729
DTSTAMP:20260424T202429
CREATED:20250710T210014Z
LAST-MODIFIED:20250710T210014Z
UID:10000802-1879891200-1879977599@mplpa.org
SUMMARY:Book Sale
DESCRIPTION:
URL:https://mplpa.org/event/book-sale/2029-07-28/
LOCATION:Muncy Public Library\, 108 S Main Street\, Muncy\, PA\, 17756\, United States
CATEGORIES:Book Sale
END:VEVENT
BEGIN:VEVENT
DTSTART;TZID=America/New_York:20290811T130000
DTEND;TZID=America/New_York:20290811T140000
DTSTAMP:20260424T202430
CREATED:20260112T195420Z
LAST-MODIFIED:20260112T195420Z
UID:10003349-1881147600-1881151200@mplpa.org
SUMMARY:Pokemon Club
DESCRIPTION:  \nEvery second Saturday of the month! We mostly focus on the card game\, but we also have crafts and coloring for younger participants! Adults as well as children are encouraged to attend. Sometimes we even have snacks 🙂
URL:https://mplpa.org/event/pokemon-club-2/2029-08-11/
LOCATION:Muncy Public Library\, 108 S Main Street\, Muncy\, PA\, 17756\, United States
CATEGORIES:Pokemon Club
END:VEVENT
BEGIN:VEVENT
DTSTART;VALUE=DATE:20290814
DTEND;VALUE=DATE:20290815
DTSTAMP:20260424T202430
CREATED:20250710T210133Z
LAST-MODIFIED:20250710T210133Z
UID:10000863-1881360000-1881446399@mplpa.org
SUMMARY:Book Sale
DESCRIPTION:
URL:https://mplpa.org/event/book-sale-2/2029-08-14/
LOCATION:Muncy Public Library\, 108 S Main Street\, Muncy\, PA\, 17756\, United States
CATEGORIES:Book Sale
END:VEVENT
BEGIN:VEVENT
DTSTART;VALUE=DATE:20290825
DTEND;VALUE=DATE:20290826
DTSTAMP:20260424T202430
CREATED:20250710T210014Z
LAST-MODIFIED:20250710T210014Z
UID:10000803-1882310400-1882396799@mplpa.org
SUMMARY:Book Sale
DESCRIPTION:
URL:https://mplpa.org/event/book-sale/2029-08-25/
LOCATION:Muncy Public Library\, 108 S Main Street\, Muncy\, PA\, 17756\, United States
CATEGORIES:Book Sale
END:VEVENT
BEGIN:VEVENT
DTSTART;TZID=America/New_York:20290908T130000
DTEND;TZID=America/New_York:20290908T140000
DTSTAMP:20260424T202430
CREATED:20260112T195420Z
LAST-MODIFIED:20260112T195420Z
UID:10003350-1883566800-1883570400@mplpa.org
SUMMARY:Pokemon Club
DESCRIPTION:  \nEvery second Saturday of the month! We mostly focus on the card game\, but we also have crafts and coloring for younger participants! Adults as well as children are encouraged to attend. Sometimes we even have snacks 🙂
URL:https://mplpa.org/event/pokemon-club-2/2029-09-08/
LOCATION:Muncy Public Library\, 108 S Main Street\, Muncy\, PA\, 17756\, United States
CATEGORIES:Pokemon Club
END:VEVENT
BEGIN:VEVENT
DTSTART;VALUE=DATE:20290911
DTEND;VALUE=DATE:20290912
DTSTAMP:20260424T202430
CREATED:20250710T210133Z
LAST-MODIFIED:20250710T210133Z
UID:10000864-1883779200-1883865599@mplpa.org
SUMMARY:Book Sale
DESCRIPTION:
URL:https://mplpa.org/event/book-sale-2/2029-09-11/
LOCATION:Muncy Public Library\, 108 S Main Street\, Muncy\, PA\, 17756\, United States
CATEGORIES:Book Sale
END:VEVENT
BEGIN:VEVENT
DTSTART;VALUE=DATE:20290922
DTEND;VALUE=DATE:20290923
DTSTAMP:20260424T202430
CREATED:20250710T210014Z
LAST-MODIFIED:20250710T210014Z
UID:10000804-1884729600-1884815999@mplpa.org
SUMMARY:Book Sale
DESCRIPTION:
URL:https://mplpa.org/event/book-sale/2029-09-22/
LOCATION:Muncy Public Library\, 108 S Main Street\, Muncy\, PA\, 17756\, United States
CATEGORIES:Book Sale
END:VEVENT
BEGIN:VEVENT
DTSTART;VALUE=DATE:20291009
DTEND;VALUE=DATE:20291010
DTSTAMP:20260424T202430
CREATED:20250710T210133Z
LAST-MODIFIED:20250710T210133Z
UID:10000865-1886198400-1886284799@mplpa.org
SUMMARY:Book Sale
DESCRIPTION:
URL:https://mplpa.org/event/book-sale-2/2029-10-09/
LOCATION:Muncy Public Library\, 108 S Main Street\, Muncy\, PA\, 17756\, United States
CATEGORIES:Book Sale
END:VEVENT
BEGIN:VEVENT
DTSTART;TZID=America/New_York:20291013T130000
DTEND;TZID=America/New_York:20291013T140000
DTSTAMP:20260424T202430
CREATED:20260112T195420Z
LAST-MODIFIED:20260112T195420Z
UID:10003351-1886590800-1886594400@mplpa.org
SUMMARY:Pokemon Club
DESCRIPTION:  \nEvery second Saturday of the month! We mostly focus on the card game\, but we also have crafts and coloring for younger participants! Adults as well as children are encouraged to attend. Sometimes we even have snacks 🙂
URL:https://mplpa.org/event/pokemon-club-2/2029-10-13/
LOCATION:Muncy Public Library\, 108 S Main Street\, Muncy\, PA\, 17756\, United States
CATEGORIES:Pokemon Club
END:VEVENT
BEGIN:VEVENT
DTSTART;VALUE=DATE:20291027
DTEND;VALUE=DATE:20291028
DTSTAMP:20260424T202430
CREATED:20250710T210014Z
LAST-MODIFIED:20250710T210014Z
UID:10000805-1887753600-1887839999@mplpa.org
SUMMARY:Book Sale
DESCRIPTION:
URL:https://mplpa.org/event/book-sale/2029-10-27/
LOCATION:Muncy Public Library\, 108 S Main Street\, Muncy\, PA\, 17756\, United States
CATEGORIES:Book Sale
END:VEVENT
BEGIN:VEVENT
DTSTART;TZID=America/New_York:20291110T130000
DTEND;TZID=America/New_York:20291110T140000
DTSTAMP:20260424T202430
CREATED:20260112T195420Z
LAST-MODIFIED:20260112T195420Z
UID:10003352-1889010000-1889013600@mplpa.org
SUMMARY:Pokemon Club
DESCRIPTION:  \nEvery second Saturday of the month! We mostly focus on the card game\, but we also have crafts and coloring for younger participants! Adults as well as children are encouraged to attend. Sometimes we even have snacks 🙂
URL:https://mplpa.org/event/pokemon-club-2/2029-11-10/
LOCATION:Muncy Public Library\, 108 S Main Street\, Muncy\, PA\, 17756\, United States
CATEGORIES:Pokemon Club
END:VEVENT
BEGIN:VEVENT
DTSTART;VALUE=DATE:20291113
DTEND;VALUE=DATE:20291114
DTSTAMP:20260424T202430
CREATED:20250710T210133Z
LAST-MODIFIED:20250710T210133Z
UID:10000866-1889222400-1889308799@mplpa.org
SUMMARY:Book Sale
DESCRIPTION:
URL:https://mplpa.org/event/book-sale-2/2029-11-13/
LOCATION:Muncy Public Library\, 108 S Main Street\, Muncy\, PA\, 17756\, United States
CATEGORIES:Book Sale
END:VEVENT
BEGIN:VEVENT
DTSTART;VALUE=DATE:20291124
DTEND;VALUE=DATE:20291125
DTSTAMP:20260424T202430
CREATED:20250710T210014Z
LAST-MODIFIED:20250710T210014Z
UID:10000806-1890172800-1890259199@mplpa.org
SUMMARY:Book Sale
DESCRIPTION:
URL:https://mplpa.org/event/book-sale/2029-11-24/
LOCATION:Muncy Public Library\, 108 S Main Street\, Muncy\, PA\, 17756\, United States
CATEGORIES:Book Sale
END:VEVENT
BEGIN:VEVENT
DTSTART;TZID=America/New_York:20291208T130000
DTEND;TZID=America/New_York:20291208T140000
DTSTAMP:20260424T202430
CREATED:20260112T195420Z
LAST-MODIFIED:20260112T195420Z
UID:10003353-1891429200-1891432800@mplpa.org
SUMMARY:Pokemon Club
DESCRIPTION:  \nEvery second Saturday of the month! We mostly focus on the card game\, but we also have crafts and coloring for younger participants! Adults as well as children are encouraged to attend. Sometimes we even have snacks 🙂
URL:https://mplpa.org/event/pokemon-club-2/2029-12-08/
LOCATION:Muncy Public Library\, 108 S Main Street\, Muncy\, PA\, 17756\, United States
CATEGORIES:Pokemon Club
END:VEVENT
BEGIN:VEVENT
DTSTART;VALUE=DATE:20291211
DTEND;VALUE=DATE:20291212
DTSTAMP:20260424T202430
CREATED:20250710T210133Z
LAST-MODIFIED:20250710T210133Z
UID:10000867-1891641600-1891727999@mplpa.org
SUMMARY:Book Sale
DESCRIPTION:
URL:https://mplpa.org/event/book-sale-2/2029-12-11/
LOCATION:Muncy Public Library\, 108 S Main Street\, Muncy\, PA\, 17756\, United States
CATEGORIES:Book Sale
END:VEVENT
BEGIN:VEVENT
DTSTART;VALUE=DATE:20291222
DTEND;VALUE=DATE:20291223
DTSTAMP:20260424T202430
CREATED:20250710T210014Z
LAST-MODIFIED:20250710T210014Z
UID:10000807-1892592000-1892678399@mplpa.org
SUMMARY:Book Sale
DESCRIPTION:
URL:https://mplpa.org/event/book-sale/2029-12-22/
LOCATION:Muncy Public Library\, 108 S Main Street\, Muncy\, PA\, 17756\, United States
CATEGORIES:Book Sale
END:VEVENT
BEGIN:VEVENT
DTSTART;VALUE=DATE:20300108
DTEND;VALUE=DATE:20300109
DTSTAMP:20260424T202430
CREATED:20250710T210133Z
LAST-MODIFIED:20250710T210133Z
UID:10000868-1894060800-1894147199@mplpa.org
SUMMARY:Book Sale
DESCRIPTION:
URL:https://mplpa.org/event/book-sale-2/2030-01-08/
LOCATION:Muncy Public Library\, 108 S Main Street\, Muncy\, PA\, 17756\, United States
CATEGORIES:Book Sale
END:VEVENT
BEGIN:VEVENT
DTSTART;TZID=America/New_York:20300112T130000
DTEND;TZID=America/New_York:20300112T140000
DTSTAMP:20260424T202430
CREATED:20260112T195420Z
LAST-MODIFIED:20260112T195420Z
UID:10003354-1894453200-1894456800@mplpa.org
SUMMARY:Pokemon Club
DESCRIPTION:  \nEvery second Saturday of the month! We mostly focus on the card game\, but we also have crafts and coloring for younger participants! Adults as well as children are encouraged to attend. Sometimes we even have snacks 🙂
URL:https://mplpa.org/event/pokemon-club-2/2030-01-12/
LOCATION:Muncy Public Library\, 108 S Main Street\, Muncy\, PA\, 17756\, United States
CATEGORIES:Pokemon Club
END:VEVENT
BEGIN:VEVENT
DTSTART;VALUE=DATE:20300126
DTEND;VALUE=DATE:20300127
DTSTAMP:20260424T202430
CREATED:20250710T210014Z
LAST-MODIFIED:20250710T210014Z
UID:10000808-1895616000-1895702399@mplpa.org
SUMMARY:Book Sale
DESCRIPTION:
URL:https://mplpa.org/event/book-sale/2030-01-26/
LOCATION:Muncy Public Library\, 108 S Main Street\, Muncy\, PA\, 17756\, United States
CATEGORIES:Book Sale
END:VEVENT
BEGIN:VEVENT
DTSTART;TZID=America/New_York:20300209T130000
DTEND;TZID=America/New_York:20300209T140000
DTSTAMP:20260424T202430
CREATED:20260112T195420Z
LAST-MODIFIED:20260112T195420Z
UID:10003355-1896872400-1896876000@mplpa.org
SUMMARY:Pokemon Club
DESCRIPTION:  \nEvery second Saturday of the month! We mostly focus on the card game\, but we also have crafts and coloring for younger participants! Adults as well as children are encouraged to attend. Sometimes we even have snacks 🙂
URL:https://mplpa.org/event/pokemon-club-2/2030-02-09/
LOCATION:Muncy Public Library\, 108 S Main Street\, Muncy\, PA\, 17756\, United States
CATEGORIES:Pokemon Club
END:VEVENT
BEGIN:VEVENT
DTSTART;VALUE=DATE:20300212
DTEND;VALUE=DATE:20300213
DTSTAMP:20260424T202430
CREATED:20250710T210133Z
LAST-MODIFIED:20250710T210133Z
UID:10000869-1897084800-1897171199@mplpa.org
SUMMARY:Book Sale
DESCRIPTION:
URL:https://mplpa.org/event/book-sale-2/2030-02-12/
LOCATION:Muncy Public Library\, 108 S Main Street\, Muncy\, PA\, 17756\, United States
CATEGORIES:Book Sale
END:VEVENT
END:VCALENDAR