BEGIN:VCALENDAR
VERSION:2.0
PRODID:-//Muncy Public Library - ECPv6.15.16//NONSGML v1.0//EN
CALSCALE:GREGORIAN
METHOD:PUBLISH
X-WR-CALNAME:Muncy Public Library
X-ORIGINAL-URL:https://mplpa.org
X-WR-CALDESC:Events for Muncy Public Library
REFRESH-INTERVAL;VALUE=DURATION:PT1H
X-Robots-Tag:noindex
X-PUBLISHED-TTL:PT1H
BEGIN:VTIMEZONE
TZID:America/New_York
BEGIN:DAYLIGHT
TZOFFSETFROM:-0500
TZOFFSETTO:-0400
TZNAME:EDT
DTSTART:20250309T070000
END:DAYLIGHT
BEGIN:STANDARD
TZOFFSETFROM:-0400
TZOFFSETTO:-0500
TZNAME:EST
DTSTART:20251102T060000
END:STANDARD
BEGIN:DAYLIGHT
TZOFFSETFROM:-0500
TZOFFSETTO:-0400
TZNAME:EDT
DTSTART:20260308T070000
END:DAYLIGHT
BEGIN:STANDARD
TZOFFSETFROM:-0400
TZOFFSETTO:-0500
TZNAME:EST
DTSTART:20261101T060000
END:STANDARD
BEGIN:DAYLIGHT
TZOFFSETFROM:-0500
TZOFFSETTO:-0400
TZNAME:EDT
DTSTART:20270314T070000
END:DAYLIGHT
BEGIN:STANDARD
TZOFFSETFROM:-0400
TZOFFSETTO:-0500
TZNAME:EST
DTSTART:20271107T060000
END:STANDARD
BEGIN:DAYLIGHT
TZOFFSETFROM:-0500
TZOFFSETTO:-0400
TZNAME:EDT
DTSTART:20280312T070000
END:DAYLIGHT
BEGIN:STANDARD
TZOFFSETFROM:-0400
TZOFFSETTO:-0500
TZNAME:EST
DTSTART:20281105T060000
END:STANDARD
END:VTIMEZONE
BEGIN:VEVENT
DTSTART;VALUE=DATE:20260822
DTEND;VALUE=DATE:20260823
DTSTAMP:20260424T072853
CREATED:20250710T210014Z
LAST-MODIFIED:20250710T210014Z
UID:10000767-1787356800-1787443199@mplpa.org
SUMMARY:Book Sale
DESCRIPTION:
URL:https://mplpa.org/event/book-sale/2026-08-22/
LOCATION:Muncy Public Library\, 108 S Main Street\, Muncy\, PA\, 17756\, United States
CATEGORIES:Book Sale
END:VEVENT
BEGIN:VEVENT
DTSTART;VALUE=DATE:20260908
DTEND;VALUE=DATE:20260909
DTSTAMP:20260424T072853
CREATED:20250710T210133Z
LAST-MODIFIED:20250710T210133Z
UID:10000828-1788825600-1788911999@mplpa.org
SUMMARY:Book Sale
DESCRIPTION:
URL:https://mplpa.org/event/book-sale-2/2026-09-08/
LOCATION:Muncy Public Library\, 108 S Main Street\, Muncy\, PA\, 17756\, United States
CATEGORIES:Book Sale
END:VEVENT
BEGIN:VEVENT
DTSTART;TZID=America/New_York:20260912T130000
DTEND;TZID=America/New_York:20260912T140000
DTSTAMP:20260424T072853
CREATED:20260112T195420Z
LAST-MODIFIED:20260112T195420Z
UID:10003314-1789218000-1789221600@mplpa.org
SUMMARY:Pokemon Club
DESCRIPTION:  \nEvery second Saturday of the month! We mostly focus on the card game\, but we also have crafts and coloring for younger participants! Adults as well as children are encouraged to attend. Sometimes we even have snacks 🙂
URL:https://mplpa.org/event/pokemon-club-2/2026-09-12/
LOCATION:Muncy Public Library\, 108 S Main Street\, Muncy\, PA\, 17756\, United States
CATEGORIES:Pokemon Club
END:VEVENT
BEGIN:VEVENT
DTSTART;VALUE=DATE:20260926
DTEND;VALUE=DATE:20260927
DTSTAMP:20260424T072853
CREATED:20250710T210014Z
LAST-MODIFIED:20250710T210014Z
UID:10000768-1790380800-1790467199@mplpa.org
SUMMARY:Book Sale
DESCRIPTION:
URL:https://mplpa.org/event/book-sale/2026-09-26/
LOCATION:Muncy Public Library\, 108 S Main Street\, Muncy\, PA\, 17756\, United States
CATEGORIES:Book Sale
END:VEVENT
BEGIN:VEVENT
DTSTART;TZID=America/New_York:20261010T130000
DTEND;TZID=America/New_York:20261010T140000
DTSTAMP:20260424T072853
CREATED:20260112T195420Z
LAST-MODIFIED:20260112T195420Z
UID:10003315-1791637200-1791640800@mplpa.org
SUMMARY:Pokemon Club
DESCRIPTION:  \nEvery second Saturday of the month! We mostly focus on the card game\, but we also have crafts and coloring for younger participants! Adults as well as children are encouraged to attend. Sometimes we even have snacks 🙂
URL:https://mplpa.org/event/pokemon-club-2/2026-10-10/
LOCATION:Muncy Public Library\, 108 S Main Street\, Muncy\, PA\, 17756\, United States
CATEGORIES:Pokemon Club
END:VEVENT
BEGIN:VEVENT
DTSTART;VALUE=DATE:20261013
DTEND;VALUE=DATE:20261014
DTSTAMP:20260424T072853
CREATED:20250710T210133Z
LAST-MODIFIED:20250710T210133Z
UID:10000829-1791849600-1791935999@mplpa.org
SUMMARY:Book Sale
DESCRIPTION:
URL:https://mplpa.org/event/book-sale-2/2026-10-13/
LOCATION:Muncy Public Library\, 108 S Main Street\, Muncy\, PA\, 17756\, United States
CATEGORIES:Book Sale
END:VEVENT
BEGIN:VEVENT
DTSTART;VALUE=DATE:20261024
DTEND;VALUE=DATE:20261025
DTSTAMP:20260424T072853
CREATED:20250710T210014Z
LAST-MODIFIED:20250710T210014Z
UID:10000769-1792800000-1792886399@mplpa.org
SUMMARY:Book Sale
DESCRIPTION:
URL:https://mplpa.org/event/book-sale/2026-10-24/
LOCATION:Muncy Public Library\, 108 S Main Street\, Muncy\, PA\, 17756\, United States
CATEGORIES:Book Sale
END:VEVENT
BEGIN:VEVENT
DTSTART;VALUE=DATE:20261110
DTEND;VALUE=DATE:20261111
DTSTAMP:20260424T072853
CREATED:20250710T210133Z
LAST-MODIFIED:20250710T210133Z
UID:10000830-1794268800-1794355199@mplpa.org
SUMMARY:Book Sale
DESCRIPTION:
URL:https://mplpa.org/event/book-sale-2/2026-11-10/
LOCATION:Muncy Public Library\, 108 S Main Street\, Muncy\, PA\, 17756\, United States
CATEGORIES:Book Sale
END:VEVENT
BEGIN:VEVENT
DTSTART;TZID=America/New_York:20261114T130000
DTEND;TZID=America/New_York:20261114T140000
DTSTAMP:20260424T072853
CREATED:20260112T195420Z
LAST-MODIFIED:20260112T195420Z
UID:10003316-1794661200-1794664800@mplpa.org
SUMMARY:Pokemon Club
DESCRIPTION:  \nEvery second Saturday of the month! We mostly focus on the card game\, but we also have crafts and coloring for younger participants! Adults as well as children are encouraged to attend. Sometimes we even have snacks 🙂
URL:https://mplpa.org/event/pokemon-club-2/2026-11-14/
LOCATION:Muncy Public Library\, 108 S Main Street\, Muncy\, PA\, 17756\, United States
CATEGORIES:Pokemon Club
END:VEVENT
BEGIN:VEVENT
DTSTART;VALUE=DATE:20261128
DTEND;VALUE=DATE:20261129
DTSTAMP:20260424T072853
CREATED:20250710T210014Z
LAST-MODIFIED:20250710T210014Z
UID:10000770-1795824000-1795910399@mplpa.org
SUMMARY:Book Sale
DESCRIPTION:
URL:https://mplpa.org/event/book-sale/2026-11-28/
LOCATION:Muncy Public Library\, 108 S Main Street\, Muncy\, PA\, 17756\, United States
CATEGORIES:Book Sale
END:VEVENT
BEGIN:VEVENT
DTSTART;VALUE=DATE:20261208
DTEND;VALUE=DATE:20261209
DTSTAMP:20260424T072853
CREATED:20250710T210133Z
LAST-MODIFIED:20250710T210133Z
UID:10000831-1796688000-1796774399@mplpa.org
SUMMARY:Book Sale
DESCRIPTION:
URL:https://mplpa.org/event/book-sale-2/2026-12-08/
LOCATION:Muncy Public Library\, 108 S Main Street\, Muncy\, PA\, 17756\, United States
CATEGORIES:Book Sale
END:VEVENT
BEGIN:VEVENT
DTSTART;TZID=America/New_York:20261212T130000
DTEND;TZID=America/New_York:20261212T140000
DTSTAMP:20260424T072853
CREATED:20260112T195420Z
LAST-MODIFIED:20260112T195420Z
UID:10003317-1797080400-1797084000@mplpa.org
SUMMARY:Pokemon Club
DESCRIPTION:  \nEvery second Saturday of the month! We mostly focus on the card game\, but we also have crafts and coloring for younger participants! Adults as well as children are encouraged to attend. Sometimes we even have snacks 🙂
URL:https://mplpa.org/event/pokemon-club-2/2026-12-12/
LOCATION:Muncy Public Library\, 108 S Main Street\, Muncy\, PA\, 17756\, United States
CATEGORIES:Pokemon Club
END:VEVENT
BEGIN:VEVENT
DTSTART;VALUE=DATE:20261226
DTEND;VALUE=DATE:20261227
DTSTAMP:20260424T072853
CREATED:20250710T210014Z
LAST-MODIFIED:20250710T210014Z
UID:10000771-1798243200-1798329599@mplpa.org
SUMMARY:Book Sale
DESCRIPTION:
URL:https://mplpa.org/event/book-sale/2026-12-26/
LOCATION:Muncy Public Library\, 108 S Main Street\, Muncy\, PA\, 17756\, United States
CATEGORIES:Book Sale
END:VEVENT
BEGIN:VEVENT
DTSTART;TZID=America/New_York:20270109T130000
DTEND;TZID=America/New_York:20270109T140000
DTSTAMP:20260424T072853
CREATED:20260112T195420Z
LAST-MODIFIED:20260112T195420Z
UID:10003318-1799499600-1799503200@mplpa.org
SUMMARY:Pokemon Club
DESCRIPTION:  \nEvery second Saturday of the month! We mostly focus on the card game\, but we also have crafts and coloring for younger participants! Adults as well as children are encouraged to attend. Sometimes we even have snacks 🙂
URL:https://mplpa.org/event/pokemon-club-2/2027-01-09/
LOCATION:Muncy Public Library\, 108 S Main Street\, Muncy\, PA\, 17756\, United States
CATEGORIES:Pokemon Club
END:VEVENT
BEGIN:VEVENT
DTSTART;VALUE=DATE:20270112
DTEND;VALUE=DATE:20270113
DTSTAMP:20260424T072853
CREATED:20250710T210133Z
LAST-MODIFIED:20250710T210133Z
UID:10000832-1799712000-1799798399@mplpa.org
SUMMARY:Book Sale
DESCRIPTION:
URL:https://mplpa.org/event/book-sale-2/2027-01-12/
LOCATION:Muncy Public Library\, 108 S Main Street\, Muncy\, PA\, 17756\, United States
CATEGORIES:Book Sale
END:VEVENT
BEGIN:VEVENT
DTSTART;VALUE=DATE:20270123
DTEND;VALUE=DATE:20270124
DTSTAMP:20260424T072853
CREATED:20250710T210014Z
LAST-MODIFIED:20250710T210014Z
UID:10000772-1800662400-1800748799@mplpa.org
SUMMARY:Book Sale
DESCRIPTION:
URL:https://mplpa.org/event/book-sale/2027-01-23/
LOCATION:Muncy Public Library\, 108 S Main Street\, Muncy\, PA\, 17756\, United States
CATEGORIES:Book Sale
END:VEVENT
BEGIN:VEVENT
DTSTART;VALUE=DATE:20270209
DTEND;VALUE=DATE:20270210
DTSTAMP:20260424T072853
CREATED:20250710T210133Z
LAST-MODIFIED:20250710T210133Z
UID:10000833-1802131200-1802217599@mplpa.org
SUMMARY:Book Sale
DESCRIPTION:
URL:https://mplpa.org/event/book-sale-2/2027-02-09/
LOCATION:Muncy Public Library\, 108 S Main Street\, Muncy\, PA\, 17756\, United States
CATEGORIES:Book Sale
END:VEVENT
BEGIN:VEVENT
DTSTART;TZID=America/New_York:20270213T130000
DTEND;TZID=America/New_York:20270213T140000
DTSTAMP:20260424T072853
CREATED:20260112T195420Z
LAST-MODIFIED:20260112T195420Z
UID:10003319-1802523600-1802527200@mplpa.org
SUMMARY:Pokemon Club
DESCRIPTION:  \nEvery second Saturday of the month! We mostly focus on the card game\, but we also have crafts and coloring for younger participants! Adults as well as children are encouraged to attend. Sometimes we even have snacks 🙂
URL:https://mplpa.org/event/pokemon-club-2/2027-02-13/
LOCATION:Muncy Public Library\, 108 S Main Street\, Muncy\, PA\, 17756\, United States
CATEGORIES:Pokemon Club
END:VEVENT
BEGIN:VEVENT
DTSTART;VALUE=DATE:20270227
DTEND;VALUE=DATE:20270228
DTSTAMP:20260424T072853
CREATED:20250710T210014Z
LAST-MODIFIED:20250710T210014Z
UID:10000773-1803686400-1803772799@mplpa.org
SUMMARY:Book Sale
DESCRIPTION:
URL:https://mplpa.org/event/book-sale/2027-02-27/
LOCATION:Muncy Public Library\, 108 S Main Street\, Muncy\, PA\, 17756\, United States
CATEGORIES:Book Sale
END:VEVENT
BEGIN:VEVENT
DTSTART;VALUE=DATE:20270309
DTEND;VALUE=DATE:20270310
DTSTAMP:20260424T072853
CREATED:20250710T210133Z
LAST-MODIFIED:20250710T210133Z
UID:10000834-1804550400-1804636799@mplpa.org
SUMMARY:Book Sale
DESCRIPTION:
URL:https://mplpa.org/event/book-sale-2/2027-03-09/
LOCATION:Muncy Public Library\, 108 S Main Street\, Muncy\, PA\, 17756\, United States
CATEGORIES:Book Sale
END:VEVENT
BEGIN:VEVENT
DTSTART;TZID=America/New_York:20270313T130000
DTEND;TZID=America/New_York:20270313T140000
DTSTAMP:20260424T072853
CREATED:20260112T195420Z
LAST-MODIFIED:20260112T195420Z
UID:10003320-1804942800-1804946400@mplpa.org
SUMMARY:Pokemon Club
DESCRIPTION:  \nEvery second Saturday of the month! We mostly focus on the card game\, but we also have crafts and coloring for younger participants! Adults as well as children are encouraged to attend. Sometimes we even have snacks 🙂
URL:https://mplpa.org/event/pokemon-club-2/2027-03-13/
LOCATION:Muncy Public Library\, 108 S Main Street\, Muncy\, PA\, 17756\, United States
CATEGORIES:Pokemon Club
END:VEVENT
BEGIN:VEVENT
DTSTART;VALUE=DATE:20270327
DTEND;VALUE=DATE:20270328
DTSTAMP:20260424T072853
CREATED:20250710T210014Z
LAST-MODIFIED:20250710T210014Z
UID:10000774-1806105600-1806191999@mplpa.org
SUMMARY:Book Sale
DESCRIPTION:
URL:https://mplpa.org/event/book-sale/2027-03-27/
LOCATION:Muncy Public Library\, 108 S Main Street\, Muncy\, PA\, 17756\, United States
CATEGORIES:Book Sale
END:VEVENT
BEGIN:VEVENT
DTSTART;TZID=America/New_York:20270410T130000
DTEND;TZID=America/New_York:20270410T140000
DTSTAMP:20260424T072853
CREATED:20260112T195420Z
LAST-MODIFIED:20260112T195420Z
UID:10003321-1807362000-1807365600@mplpa.org
SUMMARY:Pokemon Club
DESCRIPTION:  \nEvery second Saturday of the month! We mostly focus on the card game\, but we also have crafts and coloring for younger participants! Adults as well as children are encouraged to attend. Sometimes we even have snacks 🙂
URL:https://mplpa.org/event/pokemon-club-2/2027-04-10/
LOCATION:Muncy Public Library\, 108 S Main Street\, Muncy\, PA\, 17756\, United States
CATEGORIES:Pokemon Club
END:VEVENT
BEGIN:VEVENT
DTSTART;VALUE=DATE:20270413
DTEND;VALUE=DATE:20270414
DTSTAMP:20260424T072853
CREATED:20250710T210133Z
LAST-MODIFIED:20250710T210133Z
UID:10000835-1807574400-1807660799@mplpa.org
SUMMARY:Book Sale
DESCRIPTION:
URL:https://mplpa.org/event/book-sale-2/2027-04-13/
LOCATION:Muncy Public Library\, 108 S Main Street\, Muncy\, PA\, 17756\, United States
CATEGORIES:Book Sale
END:VEVENT
BEGIN:VEVENT
DTSTART;VALUE=DATE:20270424
DTEND;VALUE=DATE:20270425
DTSTAMP:20260424T072853
CREATED:20250710T210014Z
LAST-MODIFIED:20250710T210014Z
UID:10000775-1808524800-1808611199@mplpa.org
SUMMARY:Book Sale
DESCRIPTION:
URL:https://mplpa.org/event/book-sale/2027-04-24/
LOCATION:Muncy Public Library\, 108 S Main Street\, Muncy\, PA\, 17756\, United States
CATEGORIES:Book Sale
END:VEVENT
BEGIN:VEVENT
DTSTART;TZID=America/New_York:20270508T130000
DTEND;TZID=America/New_York:20270508T140000
DTSTAMP:20260424T072853
CREATED:20260112T195420Z
LAST-MODIFIED:20260112T195420Z
UID:10003322-1809781200-1809784800@mplpa.org
SUMMARY:Pokemon Club
DESCRIPTION:  \nEvery second Saturday of the month! We mostly focus on the card game\, but we also have crafts and coloring for younger participants! Adults as well as children are encouraged to attend. Sometimes we even have snacks 🙂
URL:https://mplpa.org/event/pokemon-club-2/2027-05-08/
LOCATION:Muncy Public Library\, 108 S Main Street\, Muncy\, PA\, 17756\, United States
CATEGORIES:Pokemon Club
END:VEVENT
BEGIN:VEVENT
DTSTART;VALUE=DATE:20270511
DTEND;VALUE=DATE:20270512
DTSTAMP:20260424T072853
CREATED:20250710T210133Z
LAST-MODIFIED:20250710T210133Z
UID:10000836-1809993600-1810079999@mplpa.org
SUMMARY:Book Sale
DESCRIPTION:
URL:https://mplpa.org/event/book-sale-2/2027-05-11/
LOCATION:Muncy Public Library\, 108 S Main Street\, Muncy\, PA\, 17756\, United States
CATEGORIES:Book Sale
END:VEVENT
BEGIN:VEVENT
DTSTART;VALUE=DATE:20270522
DTEND;VALUE=DATE:20270523
DTSTAMP:20260424T072853
CREATED:20250710T210014Z
LAST-MODIFIED:20250710T210014Z
UID:10000776-1810944000-1811030399@mplpa.org
SUMMARY:Book Sale
DESCRIPTION:
URL:https://mplpa.org/event/book-sale/2027-05-22/
LOCATION:Muncy Public Library\, 108 S Main Street\, Muncy\, PA\, 17756\, United States
CATEGORIES:Book Sale
END:VEVENT
BEGIN:VEVENT
DTSTART;VALUE=DATE:20270608
DTEND;VALUE=DATE:20270609
DTSTAMP:20260424T072853
CREATED:20250710T210133Z
LAST-MODIFIED:20250710T210133Z
UID:10000837-1812412800-1812499199@mplpa.org
SUMMARY:Book Sale
DESCRIPTION:
URL:https://mplpa.org/event/book-sale-2/2027-06-08/
LOCATION:Muncy Public Library\, 108 S Main Street\, Muncy\, PA\, 17756\, United States
CATEGORIES:Book Sale
END:VEVENT
BEGIN:VEVENT
DTSTART;TZID=America/New_York:20270612T130000
DTEND;TZID=America/New_York:20270612T140000
DTSTAMP:20260424T072853
CREATED:20260112T195420Z
LAST-MODIFIED:20260112T195420Z
UID:10003323-1812805200-1812808800@mplpa.org
SUMMARY:Pokemon Club
DESCRIPTION:  \nEvery second Saturday of the month! We mostly focus on the card game\, but we also have crafts and coloring for younger participants! Adults as well as children are encouraged to attend. Sometimes we even have snacks 🙂
URL:https://mplpa.org/event/pokemon-club-2/2027-06-12/
LOCATION:Muncy Public Library\, 108 S Main Street\, Muncy\, PA\, 17756\, United States
CATEGORIES:Pokemon Club
END:VEVENT
END:VCALENDAR