BEGIN:VCALENDAR
VERSION:2.0
PRODID:-//Muncy Public Library - ECPv6.15.16//NONSGML v1.0//EN
CALSCALE:GREGORIAN
METHOD:PUBLISH
X-WR-CALNAME:Muncy Public Library
X-ORIGINAL-URL:https://mplpa.org
X-WR-CALDESC:Events for Muncy Public Library
REFRESH-INTERVAL;VALUE=DURATION:PT1H
X-Robots-Tag:noindex
X-PUBLISHED-TTL:PT1H
BEGIN:VTIMEZONE
TZID:America/New_York
BEGIN:DAYLIGHT
TZOFFSETFROM:-0500
TZOFFSETTO:-0400
TZNAME:EDT
DTSTART:20260308T070000
END:DAYLIGHT
BEGIN:STANDARD
TZOFFSETFROM:-0400
TZOFFSETTO:-0500
TZNAME:EST
DTSTART:20261101T060000
END:STANDARD
BEGIN:DAYLIGHT
TZOFFSETFROM:-0500
TZOFFSETTO:-0400
TZNAME:EDT
DTSTART:20270314T070000
END:DAYLIGHT
BEGIN:STANDARD
TZOFFSETFROM:-0400
TZOFFSETTO:-0500
TZNAME:EST
DTSTART:20271107T060000
END:STANDARD
BEGIN:DAYLIGHT
TZOFFSETFROM:-0500
TZOFFSETTO:-0400
TZNAME:EDT
DTSTART:20280312T070000
END:DAYLIGHT
BEGIN:STANDARD
TZOFFSETFROM:-0400
TZOFFSETTO:-0500
TZNAME:EST
DTSTART:20281105T060000
END:STANDARD
BEGIN:DAYLIGHT
TZOFFSETFROM:-0500
TZOFFSETTO:-0400
TZNAME:EDT
DTSTART:20290311T070000
END:DAYLIGHT
BEGIN:STANDARD
TZOFFSETFROM:-0400
TZOFFSETTO:-0500
TZNAME:EST
DTSTART:20291104T060000
END:STANDARD
END:VTIMEZONE
BEGIN:VEVENT
DTSTART;VALUE=DATE:20270424
DTEND;VALUE=DATE:20270425
DTSTAMP:20260424T103449
CREATED:20250710T210014Z
LAST-MODIFIED:20250710T210014Z
UID:10000775-1808524800-1808611199@mplpa.org
SUMMARY:Book Sale
DESCRIPTION:
URL:https://mplpa.org/event/book-sale/2027-04-24/
LOCATION:Muncy Public Library\, 108 S Main Street\, Muncy\, PA\, 17756\, United States
CATEGORIES:Book Sale
END:VEVENT
BEGIN:VEVENT
DTSTART;TZID=America/New_York:20270508T130000
DTEND;TZID=America/New_York:20270508T140000
DTSTAMP:20260424T103449
CREATED:20260112T195420Z
LAST-MODIFIED:20260112T195420Z
UID:10003322-1809781200-1809784800@mplpa.org
SUMMARY:Pokemon Club
DESCRIPTION:  \nEvery second Saturday of the month! We mostly focus on the card game\, but we also have crafts and coloring for younger participants! Adults as well as children are encouraged to attend. Sometimes we even have snacks 🙂
URL:https://mplpa.org/event/pokemon-club-2/2027-05-08/
LOCATION:Muncy Public Library\, 108 S Main Street\, Muncy\, PA\, 17756\, United States
CATEGORIES:Pokemon Club
END:VEVENT
BEGIN:VEVENT
DTSTART;VALUE=DATE:20270511
DTEND;VALUE=DATE:20270512
DTSTAMP:20260424T103449
CREATED:20250710T210133Z
LAST-MODIFIED:20250710T210133Z
UID:10000836-1809993600-1810079999@mplpa.org
SUMMARY:Book Sale
DESCRIPTION:
URL:https://mplpa.org/event/book-sale-2/2027-05-11/
LOCATION:Muncy Public Library\, 108 S Main Street\, Muncy\, PA\, 17756\, United States
CATEGORIES:Book Sale
END:VEVENT
BEGIN:VEVENT
DTSTART;VALUE=DATE:20270522
DTEND;VALUE=DATE:20270523
DTSTAMP:20260424T103449
CREATED:20250710T210014Z
LAST-MODIFIED:20250710T210014Z
UID:10000776-1810944000-1811030399@mplpa.org
SUMMARY:Book Sale
DESCRIPTION:
URL:https://mplpa.org/event/book-sale/2027-05-22/
LOCATION:Muncy Public Library\, 108 S Main Street\, Muncy\, PA\, 17756\, United States
CATEGORIES:Book Sale
END:VEVENT
BEGIN:VEVENT
DTSTART;VALUE=DATE:20270608
DTEND;VALUE=DATE:20270609
DTSTAMP:20260424T103449
CREATED:20250710T210133Z
LAST-MODIFIED:20250710T210133Z
UID:10000837-1812412800-1812499199@mplpa.org
SUMMARY:Book Sale
DESCRIPTION:
URL:https://mplpa.org/event/book-sale-2/2027-06-08/
LOCATION:Muncy Public Library\, 108 S Main Street\, Muncy\, PA\, 17756\, United States
CATEGORIES:Book Sale
END:VEVENT
BEGIN:VEVENT
DTSTART;TZID=America/New_York:20270612T130000
DTEND;TZID=America/New_York:20270612T140000
DTSTAMP:20260424T103449
CREATED:20260112T195420Z
LAST-MODIFIED:20260112T195420Z
UID:10003323-1812805200-1812808800@mplpa.org
SUMMARY:Pokemon Club
DESCRIPTION:  \nEvery second Saturday of the month! We mostly focus on the card game\, but we also have crafts and coloring for younger participants! Adults as well as children are encouraged to attend. Sometimes we even have snacks 🙂
URL:https://mplpa.org/event/pokemon-club-2/2027-06-12/
LOCATION:Muncy Public Library\, 108 S Main Street\, Muncy\, PA\, 17756\, United States
CATEGORIES:Pokemon Club
END:VEVENT
BEGIN:VEVENT
DTSTART;VALUE=DATE:20270626
DTEND;VALUE=DATE:20270627
DTSTAMP:20260424T103449
CREATED:20250710T210014Z
LAST-MODIFIED:20250710T210014Z
UID:10000777-1813968000-1814054399@mplpa.org
SUMMARY:Book Sale
DESCRIPTION:
URL:https://mplpa.org/event/book-sale/2027-06-26/
LOCATION:Muncy Public Library\, 108 S Main Street\, Muncy\, PA\, 17756\, United States
CATEGORIES:Book Sale
END:VEVENT
BEGIN:VEVENT
DTSTART;TZID=America/New_York:20270710T130000
DTEND;TZID=America/New_York:20270710T140000
DTSTAMP:20260424T103449
CREATED:20260112T195420Z
LAST-MODIFIED:20260112T195420Z
UID:10003324-1815224400-1815228000@mplpa.org
SUMMARY:Pokemon Club
DESCRIPTION:  \nEvery second Saturday of the month! We mostly focus on the card game\, but we also have crafts and coloring for younger participants! Adults as well as children are encouraged to attend. Sometimes we even have snacks 🙂
URL:https://mplpa.org/event/pokemon-club-2/2027-07-10/
LOCATION:Muncy Public Library\, 108 S Main Street\, Muncy\, PA\, 17756\, United States
CATEGORIES:Pokemon Club
END:VEVENT
BEGIN:VEVENT
DTSTART;VALUE=DATE:20270713
DTEND;VALUE=DATE:20270714
DTSTAMP:20260424T103449
CREATED:20250710T210133Z
LAST-MODIFIED:20250710T210133Z
UID:10000838-1815436800-1815523199@mplpa.org
SUMMARY:Book Sale
DESCRIPTION:
URL:https://mplpa.org/event/book-sale-2/2027-07-13/
LOCATION:Muncy Public Library\, 108 S Main Street\, Muncy\, PA\, 17756\, United States
CATEGORIES:Book Sale
END:VEVENT
BEGIN:VEVENT
DTSTART;VALUE=DATE:20270724
DTEND;VALUE=DATE:20270725
DTSTAMP:20260424T103449
CREATED:20250710T210014Z
LAST-MODIFIED:20250710T210014Z
UID:10000778-1816387200-1816473599@mplpa.org
SUMMARY:Book Sale
DESCRIPTION:
URL:https://mplpa.org/event/book-sale/2027-07-24/
LOCATION:Muncy Public Library\, 108 S Main Street\, Muncy\, PA\, 17756\, United States
CATEGORIES:Book Sale
END:VEVENT
BEGIN:VEVENT
DTSTART;VALUE=DATE:20270810
DTEND;VALUE=DATE:20270811
DTSTAMP:20260424T103449
CREATED:20250710T210133Z
LAST-MODIFIED:20250710T210133Z
UID:10000839-1817856000-1817942399@mplpa.org
SUMMARY:Book Sale
DESCRIPTION:
URL:https://mplpa.org/event/book-sale-2/2027-08-10/
LOCATION:Muncy Public Library\, 108 S Main Street\, Muncy\, PA\, 17756\, United States
CATEGORIES:Book Sale
END:VEVENT
BEGIN:VEVENT
DTSTART;TZID=America/New_York:20270814T130000
DTEND;TZID=America/New_York:20270814T140000
DTSTAMP:20260424T103449
CREATED:20260112T195420Z
LAST-MODIFIED:20260112T195420Z
UID:10003325-1818248400-1818252000@mplpa.org
SUMMARY:Pokemon Club
DESCRIPTION:  \nEvery second Saturday of the month! We mostly focus on the card game\, but we also have crafts and coloring for younger participants! Adults as well as children are encouraged to attend. Sometimes we even have snacks 🙂
URL:https://mplpa.org/event/pokemon-club-2/2027-08-14/
LOCATION:Muncy Public Library\, 108 S Main Street\, Muncy\, PA\, 17756\, United States
CATEGORIES:Pokemon Club
END:VEVENT
BEGIN:VEVENT
DTSTART;VALUE=DATE:20270828
DTEND;VALUE=DATE:20270829
DTSTAMP:20260424T103449
CREATED:20250710T210014Z
LAST-MODIFIED:20250710T210014Z
UID:10000779-1819411200-1819497599@mplpa.org
SUMMARY:Book Sale
DESCRIPTION:
URL:https://mplpa.org/event/book-sale/2027-08-28/
LOCATION:Muncy Public Library\, 108 S Main Street\, Muncy\, PA\, 17756\, United States
CATEGORIES:Book Sale
END:VEVENT
BEGIN:VEVENT
DTSTART;TZID=America/New_York:20270911T130000
DTEND;TZID=America/New_York:20270911T140000
DTSTAMP:20260424T103449
CREATED:20260112T195420Z
LAST-MODIFIED:20260112T195420Z
UID:10003326-1820667600-1820671200@mplpa.org
SUMMARY:Pokemon Club
DESCRIPTION:  \nEvery second Saturday of the month! We mostly focus on the card game\, but we also have crafts and coloring for younger participants! Adults as well as children are encouraged to attend. Sometimes we even have snacks 🙂
URL:https://mplpa.org/event/pokemon-club-2/2027-09-11/
LOCATION:Muncy Public Library\, 108 S Main Street\, Muncy\, PA\, 17756\, United States
CATEGORIES:Pokemon Club
END:VEVENT
BEGIN:VEVENT
DTSTART;VALUE=DATE:20270914
DTEND;VALUE=DATE:20270915
DTSTAMP:20260424T103449
CREATED:20250710T210133Z
LAST-MODIFIED:20250710T210133Z
UID:10000840-1820880000-1820966399@mplpa.org
SUMMARY:Book Sale
DESCRIPTION:
URL:https://mplpa.org/event/book-sale-2/2027-09-14/
LOCATION:Muncy Public Library\, 108 S Main Street\, Muncy\, PA\, 17756\, United States
CATEGORIES:Book Sale
END:VEVENT
BEGIN:VEVENT
DTSTART;VALUE=DATE:20270925
DTEND;VALUE=DATE:20270926
DTSTAMP:20260424T103449
CREATED:20250710T210014Z
LAST-MODIFIED:20250710T210014Z
UID:10000780-1821830400-1821916799@mplpa.org
SUMMARY:Book Sale
DESCRIPTION:
URL:https://mplpa.org/event/book-sale/2027-09-25/
LOCATION:Muncy Public Library\, 108 S Main Street\, Muncy\, PA\, 17756\, United States
CATEGORIES:Book Sale
END:VEVENT
BEGIN:VEVENT
DTSTART;TZID=America/New_York:20271009T130000
DTEND;TZID=America/New_York:20271009T140000
DTSTAMP:20260424T103449
CREATED:20260112T195420Z
LAST-MODIFIED:20260112T195420Z
UID:10003327-1823086800-1823090400@mplpa.org
SUMMARY:Pokemon Club
DESCRIPTION:  \nEvery second Saturday of the month! We mostly focus on the card game\, but we also have crafts and coloring for younger participants! Adults as well as children are encouraged to attend. Sometimes we even have snacks 🙂
URL:https://mplpa.org/event/pokemon-club-2/2027-10-09/
LOCATION:Muncy Public Library\, 108 S Main Street\, Muncy\, PA\, 17756\, United States
CATEGORIES:Pokemon Club
END:VEVENT
BEGIN:VEVENT
DTSTART;VALUE=DATE:20271012
DTEND;VALUE=DATE:20271013
DTSTAMP:20260424T103449
CREATED:20250710T210133Z
LAST-MODIFIED:20250710T210133Z
UID:10000841-1823299200-1823385599@mplpa.org
SUMMARY:Book Sale
DESCRIPTION:
URL:https://mplpa.org/event/book-sale-2/2027-10-12/
LOCATION:Muncy Public Library\, 108 S Main Street\, Muncy\, PA\, 17756\, United States
CATEGORIES:Book Sale
END:VEVENT
BEGIN:VEVENT
DTSTART;VALUE=DATE:20271023
DTEND;VALUE=DATE:20271024
DTSTAMP:20260424T103449
CREATED:20250710T210014Z
LAST-MODIFIED:20250710T210014Z
UID:10000781-1824249600-1824335999@mplpa.org
SUMMARY:Book Sale
DESCRIPTION:
URL:https://mplpa.org/event/book-sale/2027-10-23/
LOCATION:Muncy Public Library\, 108 S Main Street\, Muncy\, PA\, 17756\, United States
CATEGORIES:Book Sale
END:VEVENT
BEGIN:VEVENT
DTSTART;VALUE=DATE:20271109
DTEND;VALUE=DATE:20271110
DTSTAMP:20260424T103449
CREATED:20250710T210133Z
LAST-MODIFIED:20250710T210133Z
UID:10000842-1825718400-1825804799@mplpa.org
SUMMARY:Book Sale
DESCRIPTION:
URL:https://mplpa.org/event/book-sale-2/2027-11-09/
LOCATION:Muncy Public Library\, 108 S Main Street\, Muncy\, PA\, 17756\, United States
CATEGORIES:Book Sale
END:VEVENT
BEGIN:VEVENT
DTSTART;TZID=America/New_York:20271113T130000
DTEND;TZID=America/New_York:20271113T140000
DTSTAMP:20260424T103449
CREATED:20260112T195420Z
LAST-MODIFIED:20260112T195420Z
UID:10003328-1826110800-1826114400@mplpa.org
SUMMARY:Pokemon Club
DESCRIPTION:  \nEvery second Saturday of the month! We mostly focus on the card game\, but we also have crafts and coloring for younger participants! Adults as well as children are encouraged to attend. Sometimes we even have snacks 🙂
URL:https://mplpa.org/event/pokemon-club-2/2027-11-13/
LOCATION:Muncy Public Library\, 108 S Main Street\, Muncy\, PA\, 17756\, United States
CATEGORIES:Pokemon Club
END:VEVENT
BEGIN:VEVENT
DTSTART;VALUE=DATE:20271127
DTEND;VALUE=DATE:20271128
DTSTAMP:20260424T103449
CREATED:20250710T210014Z
LAST-MODIFIED:20250710T210014Z
UID:10000782-1827273600-1827359999@mplpa.org
SUMMARY:Book Sale
DESCRIPTION:
URL:https://mplpa.org/event/book-sale/2027-11-27/
LOCATION:Muncy Public Library\, 108 S Main Street\, Muncy\, PA\, 17756\, United States
CATEGORIES:Book Sale
END:VEVENT
BEGIN:VEVENT
DTSTART;TZID=America/New_York:20271211T130000
DTEND;TZID=America/New_York:20271211T140000
DTSTAMP:20260424T103449
CREATED:20260112T195420Z
LAST-MODIFIED:20260112T195420Z
UID:10003329-1828530000-1828533600@mplpa.org
SUMMARY:Pokemon Club
DESCRIPTION:  \nEvery second Saturday of the month! We mostly focus on the card game\, but we also have crafts and coloring for younger participants! Adults as well as children are encouraged to attend. Sometimes we even have snacks 🙂
URL:https://mplpa.org/event/pokemon-club-2/2027-12-11/
LOCATION:Muncy Public Library\, 108 S Main Street\, Muncy\, PA\, 17756\, United States
CATEGORIES:Pokemon Club
END:VEVENT
BEGIN:VEVENT
DTSTART;VALUE=DATE:20271214
DTEND;VALUE=DATE:20271215
DTSTAMP:20260424T103449
CREATED:20250710T210133Z
LAST-MODIFIED:20250710T210133Z
UID:10000843-1828742400-1828828799@mplpa.org
SUMMARY:Book Sale
DESCRIPTION:
URL:https://mplpa.org/event/book-sale-2/2027-12-14/
LOCATION:Muncy Public Library\, 108 S Main Street\, Muncy\, PA\, 17756\, United States
CATEGORIES:Book Sale
END:VEVENT
BEGIN:VEVENT
DTSTART;VALUE=DATE:20271225
DTEND;VALUE=DATE:20271226
DTSTAMP:20260424T103449
CREATED:20250710T210014Z
LAST-MODIFIED:20250710T210014Z
UID:10000783-1829692800-1829779199@mplpa.org
SUMMARY:Book Sale
DESCRIPTION:
URL:https://mplpa.org/event/book-sale/2027-12-25/
LOCATION:Muncy Public Library\, 108 S Main Street\, Muncy\, PA\, 17756\, United States
CATEGORIES:Book Sale
END:VEVENT
BEGIN:VEVENT
DTSTART;TZID=America/New_York:20280108T130000
DTEND;TZID=America/New_York:20280108T140000
DTSTAMP:20260424T103449
CREATED:20260112T195420Z
LAST-MODIFIED:20260112T195420Z
UID:10003330-1830949200-1830952800@mplpa.org
SUMMARY:Pokemon Club
DESCRIPTION:  \nEvery second Saturday of the month! We mostly focus on the card game\, but we also have crafts and coloring for younger participants! Adults as well as children are encouraged to attend. Sometimes we even have snacks 🙂
URL:https://mplpa.org/event/pokemon-club-2/2028-01-08/
LOCATION:Muncy Public Library\, 108 S Main Street\, Muncy\, PA\, 17756\, United States
CATEGORIES:Pokemon Club
END:VEVENT
BEGIN:VEVENT
DTSTART;VALUE=DATE:20280111
DTEND;VALUE=DATE:20280112
DTSTAMP:20260424T103449
CREATED:20250710T210133Z
LAST-MODIFIED:20250710T210133Z
UID:10000844-1831161600-1831247999@mplpa.org
SUMMARY:Book Sale
DESCRIPTION:
URL:https://mplpa.org/event/book-sale-2/2028-01-11/
LOCATION:Muncy Public Library\, 108 S Main Street\, Muncy\, PA\, 17756\, United States
CATEGORIES:Book Sale
END:VEVENT
BEGIN:VEVENT
DTSTART;VALUE=DATE:20280122
DTEND;VALUE=DATE:20280123
DTSTAMP:20260424T103449
CREATED:20250710T210014Z
LAST-MODIFIED:20250710T210014Z
UID:10000784-1832112000-1832198399@mplpa.org
SUMMARY:Book Sale
DESCRIPTION:
URL:https://mplpa.org/event/book-sale/2028-01-22/
LOCATION:Muncy Public Library\, 108 S Main Street\, Muncy\, PA\, 17756\, United States
CATEGORIES:Book Sale
END:VEVENT
BEGIN:VEVENT
DTSTART;VALUE=DATE:20280208
DTEND;VALUE=DATE:20280209
DTSTAMP:20260424T103449
CREATED:20250710T210133Z
LAST-MODIFIED:20250710T210133Z
UID:10000845-1833580800-1833667199@mplpa.org
SUMMARY:Book Sale
DESCRIPTION:
URL:https://mplpa.org/event/book-sale-2/2028-02-08/
LOCATION:Muncy Public Library\, 108 S Main Street\, Muncy\, PA\, 17756\, United States
CATEGORIES:Book Sale
END:VEVENT
BEGIN:VEVENT
DTSTART;TZID=America/New_York:20280212T130000
DTEND;TZID=America/New_York:20280212T140000
DTSTAMP:20260424T103449
CREATED:20260112T195420Z
LAST-MODIFIED:20260112T195420Z
UID:10003331-1833973200-1833976800@mplpa.org
SUMMARY:Pokemon Club
DESCRIPTION:  \nEvery second Saturday of the month! We mostly focus on the card game\, but we also have crafts and coloring for younger participants! Adults as well as children are encouraged to attend. Sometimes we even have snacks 🙂
URL:https://mplpa.org/event/pokemon-club-2/2028-02-12/
LOCATION:Muncy Public Library\, 108 S Main Street\, Muncy\, PA\, 17756\, United States
CATEGORIES:Pokemon Club
END:VEVENT
END:VCALENDAR